BEGIN:VCALENDAR
VERSION:2.0
PRODID:-//www.thecompasschurch.net//NONSGML kigkonsult.se iCalcreator 2.39.
 1//
CALSCALE:GREGORIAN
METHOD:PUBLISH
UID:14f1eb30-7903-4001-a3e5-dd4ae4cc94b7
X-WR-CALNAME:www.thecompasschurch.net
X-WR-CALDESC:www.thecompasschurch.net
X-WR-TIMEZONE:America/Los_Angeles
X-LIC-LOCATION:America/Los_Angeles
BEGIN:VEVENT
UID:c26ef89f-38ae-47ec-8242-473424889ca2
DTSTAMP:20260421T103823Z
CLASS:PUBLIC
DTSTART;TZID=America/Los_Angeles:20260422T000000
DTEND;TZID=America/Los_Angeles:20260422T000000
SUMMARY:Youth &quot\;AT HOME&quot\; (JHigh)
TRANSP:OPAQUE
BEGIN:VALARM
ACTION:DISPLAY
DESCRIPTION:Youth &quot\;AT HOME&quot\; (JHigh)
TRIGGER:-PT15M
END:VALARM
END:VEVENT
END:VCALENDAR
