BEGIN:VCALENDAR
VERSION:2.0
PRODID:-//www.thecompasschurch.net//NONSGML kigkonsult.se iCalcreator 2.39.
 1//
CALSCALE:GREGORIAN
METHOD:PUBLISH
UID:9d8bc4c3-039c-4f7a-a4dc-79a81d916255
X-WR-CALNAME:www.thecompasschurch.net
X-WR-CALDESC:www.thecompasschurch.net
X-WR-TIMEZONE:America/Los_Angeles
X-LIC-LOCATION:America/Los_Angeles
BEGIN:VEVENT
UID:65a63b22-3195-457a-8428-7bb001f52abe
DTSTAMP:20260419T134127Z
CLASS:PUBLIC
DTSTART;TZID=America/Los_Angeles:20260419T083000
DTEND;TZID=America/Los_Angeles:20260419T100000
LOCATION:Compass Church- Main Building
SUMMARY:First Service - Worship Gathering
TRANSP:OPAQUE
BEGIN:VALARM
ACTION:DISPLAY
DESCRIPTION:First Service - Worship Gathering
TRIGGER:-PT15M
END:VALARM
END:VEVENT
END:VCALENDAR
